BEGIN:VCALENDAR
VERSION:2.0
CALSCALE:GREGORIAN
PRODID:-//Diputació de Barcelona//DibaCMS//EN
BEGIN:VEVENT
UID:7519
DTSTAMP:20260420T021725
DTSTART:20190522T093000
DTEND:20190522T103000
SUMMARY:Balls en línea
LOCATION:Plaça de la Vila, 11 08613 Vilada
METHOD:PUBLISH
X-WR-CALNAME:vilada@diba.cat
X-WR-TIMEZONE:Europe/Madrid
DESCRIPTION:
URI:https://www.vilada.cat/actualitat/agenda/7519-balls-en-linea.html
CLASS:PUBLIC
END:VEVENT
END:VCALENDAR
