BEGIN:VCALENDAR
VERSION:2.0
CALSCALE:GREGORIAN
PRODID:-//Diputació de Barcelona//DibaCMS//EN
BEGIN:VEVENT
UID:7834
DTSTAMP:20260421T015805
DTSTART:20190724T110000
DTEND:20190724T180000
SUMMARY:Deixalleria mòbil
LOCATION:Parc dels Gronxadors 08613 Vilada
METHOD:PUBLISH
X-WR-CALNAME:vilada@diba.cat
X-WR-TIMEZONE:Europe/Madrid
DESCRIPTION:
URI:https://www.vilada.cat/actualitat/agenda/7834-deixalleria-mobil.html
CLASS:PUBLIC
END:VEVENT
END:VCALENDAR
