BEGIN:VCALENDAR
VERSION:2.0
CALSCALE:GREGORIAN
PRODID:-//Diputació de Barcelona//DibaCMS//EN
BEGIN:VEVENT
UID:7868
DTSTAMP:20260420T020424
DTSTART:20190630T073000
DTEND:20190630T120000
SUMMARY:Caminada Popular de Vilada
LOCATION:Plaça de l'Ajuntament 
METHOD:PUBLISH
X-WR-CALNAME:vilada@diba.cat
X-WR-TIMEZONE:Europe/Madrid
DESCRIPTION:
URI:https://www.vilada.cat/actualitat/agenda/caminada-popular-de-vilada.html
CLASS:PUBLIC
END:VEVENT
END:VCALENDAR
