BEGIN:VCALENDAR
VERSION:2.0
CALSCALE:GREGORIAN
PRODID:-//Diputació de Barcelona//DibaCMS//EN
BEGIN:VEVENT
UID:8005
DTSTAMP:20260421T161935
DTSTART:20220124T110000
DTEND:20220124T180000
SUMMARY:Deixalleria mòbil mes de gener
LOCATION:
METHOD:PUBLISH
X-WR-CALNAME:vilada@diba.cat
X-WR-TIMEZONE:Europe/Madrid
DESCRIPTION:
URI:https://www.vilada.cat/actualitat/agenda/deixalleria-mobil-mes-de-gener.html
CLASS:PUBLIC
END:VEVENT
END:VCALENDAR
