BEGIN:VCALENDAR
VERSION:2.0
CALSCALE:GREGORIAN
PRODID:-//Diputació de Barcelona//DibaCMS//EN
BEGIN:VEVENT
UID:8014
DTSTAMP:20260421T100943
DTSTART:20220406T073000
DTEND:20220406T183000
SUMMARY:Trobada de casals: Santa Fe del Penedès i Vilada: Calçotada a Valls
LOCATION:
METHOD:PUBLISH
X-WR-CALNAME:vilada@diba.cat
X-WR-TIMEZONE:Europe/Madrid
DESCRIPTION:
URI:https://www.vilada.cat/actualitat/agenda/trobada-de-casals-santa-fe-del-penedes-i-vilada-calcotada-a-valls.html
CLASS:PUBLIC
END:VEVENT
END:VCALENDAR
